BEGIN:VCALENDAR
VERSION:2.0
PRODID:-//Tukios.com/
BEGIN:VEVENT
UID:cf456a9f-9ee6-4af8-81e5-bf32a53b8c03@www.briggsfuneralhome.com
DTSTAMP:20260420T232045Z
DTSTART:20260427T190000Z
DTEND:20260427T200000Z
SUMMARY:Celebration of Life
DESCRIPTION:
URL:https://www.briggsfuneralhome.com/obituaries/richard-morris-sr
LOCATION:Central United Methodist Church 276 W 1st St  Denton NC 27239
GEO:35.6351799;-80.1176027
END:VEVENT
END:VCALENDAR