BEGIN:VCALENDAR
VERSION:2.0
PRODID:-//Tukios.com/
BEGIN:VEVENT
UID:ed7abdb3-f69c-44f5-9c40-7a5ca432f526@www.briggsfuneralhome.com
DTSTAMP:20260420T232019Z
DTSTART:20260427T193000Z
DTEND:20260427T200000Z
SUMMARY:Visitation with Family
DESCRIPTION:
URL:https://www.briggsfuneralhome.com/obituaries/richard-morris-sr
LOCATION: 276 W 1st St  Denton NC 27239
GEO:35.6351799;-80.1176027
END:VEVENT
END:VCALENDAR